BEGIN:VCALENDAR
VERSION:2.0
PRODID:-//Gran Touring Motorsports - ECPv6.15.20//NONSGML v1.0//EN
CALSCALE:GREGORIAN
METHOD:PUBLISH
X-ORIGINAL-URL:https://www.gtmotorsports.org
X-WR-CALDESC:Events for Gran Touring Motorsports
REFRESH-INTERVAL;VALUE=DURATION:PT1H
X-Robots-Tag:noindex
X-PUBLISHED-TTL:PT1H
BEGIN:VTIMEZONE
TZID:America/New_York
BEGIN:DAYLIGHT
TZOFFSETFROM:-0500
TZOFFSETTO:-0400
TZNAME:EDT
DTSTART:20250309T070000
END:DAYLIGHT
BEGIN:STANDARD
TZOFFSETFROM:-0400
TZOFFSETTO:-0500
TZNAME:EST
DTSTART:20251102T060000
END:STANDARD
BEGIN:DAYLIGHT
TZOFFSETFROM:-0500
TZOFFSETTO:-0400
TZNAME:EDT
DTSTART:20260308T070000
END:DAYLIGHT
BEGIN:STANDARD
TZOFFSETFROM:-0400
TZOFFSETTO:-0500
TZNAME:EST
DTSTART:20261101T060000
END:STANDARD
BEGIN:DAYLIGHT
TZOFFSETFROM:-0500
TZOFFSETTO:-0400
TZNAME:EDT
DTSTART:20270314T070000
END:DAYLIGHT
BEGIN:STANDARD
TZOFFSETFROM:-0400
TZOFFSETTO:-0500
TZNAME:EST
DTSTART:20271107T060000
END:STANDARD
END:VTIMEZONE
BEGIN:VEVENT
DTSTART;VALUE=DATE:20260610
DTEND;VALUE=DATE:20260615
DTSTAMP:20260424T211805
CREATED:20260110T101017Z
LAST-MODIFIED:20260415T150749Z
UID:70862-1781049600-1781481599@www.gtmotorsports.org
SUMMARY:Porsche Parade 2026
DESCRIPTION:PCA Potomac – Phase 2 Registration for Porsche Parade Opens Wednesday\, April 15 at noon ET; Member Badges Order Window Opens (April 15 – May 15) \n\nIf you haven’t already registered for Porsche Parade\, PCA’s biggest event of the year\, don’t wait! Phase 1 Registration (Entry and Housing) will reopen with Phase 2 Registration (Events\, Tours\, and Banquets) on Wednesday\, April 15\, at noon ET! Tickets to events and tours sell out SUPER quickly. Make sure you register early and have information on hand\, such as meal selections\, tshirt sizes for volunteers\, competitive event selection for each participant\, birthdates of children attending\, PCA membership number of co-entrants\, your Porsche license plate and brand of tires\, and trailer details\, as applicable. \n\nPorsche Parade is PCA’s biggest event of the year! While attending the 2026 Porsche Parade\, you and your family will be able to experience all that Lake Placid and the Adirondack Mountains have to offer. Let’s head north to represent Potomac in style! \nWhen: June 14–20\, 2026 \nWhere: Lake Placid\, NY \nRegistration Opens: January 28 at 12 noon ET \nThe “hub” of the 2026 Porsche Parade will be the Lake Placid Olympic Center. The Center will host Banquets\, Parade Platz\, Concours d’Elegance\, Concours Prep\, Vendor Village\, Car Wash\, Tech Tactics\, PCA Juniors @ Parade\, Art Show\, RC cars\, and more. Don’t miss competitive events like Autocross\, TSD Rally\, Gimmick Rally\, Golf Tournament\, 5K\, SIM Racing\, and much more! \nThe Entrant Fee for the 2026 Porsche Parade is $300\, which includes one primary entrant and one co-entrant.
URL:https://www.gtmotorsports.org/event/porsche-parade-2026/
LOCATION:Lake Placid Olympic Center\, 2634 Main St\, Lake Placid\, NY\, 12946\, United States
CATEGORIES:AutoCross,Banquet,Convention,Meeting,Road Rally,Social
ATTACH;FMTTYPE=image/png:https://www.gtmotorsports.org/wp-content/uploads/2026/01/unnamed.png
END:VEVENT
END:VCALENDAR